BEGIN:VCALENDAR
VERSION:2.0
PRODID:-//Perdonanza Celestiniana L'Aquila //NONSGML Events //EN
CALSCALE:GREGORIAN
X-WR-CALNAME:Perdonanza Celestiniana L'Aquila
BEGIN:VEVENT
CREATED:20230809T063310
UID:1515
DTEND;VALUE=DATE-TIME:20230823T213000
DTSTART;VALUE=DATE-TIME:20230823T213000
DTSTAMP:20260423T234603
LOCATION:
DESCRIPTION:Teatro del Perdono
SUMMARY:Un canto per la rinascita
ORGANIZER:Perdonanza Celestiniana L'Aquila
URL;VALUE=URI:https://perdonanza-celestiniana.it/eventiperdonanza/un-canto-per-la-rinascita/
TRANSP:OPAQUE
BEGIN:VALARM
TRIGGER;RELATED=END:-P2D
ACTION:DISPLAY
DESCRIPTION:Fine / Scadenza di Un canto per la rinascita
END:VALARM
END:VEVENT
END:VCALENDAR