BEGIN:VCALENDAR
VERSION:2.0
PRODID:-//Perdonanza Celestiniana L'Aquila //NONSGML Events //EN
CALSCALE:GREGORIAN
X-WR-CALNAME:Perdonanza Celestiniana L'Aquila
BEGIN:VEVENT
CREATED:20230809T063820
UID:1518
DTEND;VALUE=DATE-TIME:20230824T213000
DTSTART;VALUE=DATE-TIME:20230824T213000
DTSTAMP:20260423T221259
LOCATION:
DESCRIPTION:Scalinata di San Bernardino
SUMMARY:L'Aquila si veste di stelle
ORGANIZER:Perdonanza Celestiniana L'Aquila
URL;VALUE=URI:https://perdonanza-celestiniana.it/eventiperdonanza/laquila-si-veste-di-stelle/
TRANSP:OPAQUE
BEGIN:VALARM
TRIGGER;RELATED=END:-P2D
ACTION:DISPLAY
DESCRIPTION:Fine / Scadenza di L&#8217\;Aquila si veste di stelle
END:VALARM
END:VEVENT
END:VCALENDAR