BEGIN:VCALENDAR
VERSION:2.0
PRODID:-//Perdonanza Celestiniana L'Aquila //NONSGML Events //EN
CALSCALE:GREGORIAN
X-WR-CALNAME:Perdonanza Celestiniana L'Aquila
BEGIN:VEVENT
CREATED:20230809T064022
UID:1522
DTEND;VALUE=DATE-TIME:20230825T213000
DTSTART;VALUE=DATE-TIME:20230825T213000
DTSTAMP:20260423T220948
LOCATION:
DESCRIPTION:Scalinata di San Bernardino
SUMMARY:Teo Teocoli in Tutto Teo
ORGANIZER:Perdonanza Celestiniana L'Aquila
URL;VALUE=URI:https://perdonanza-celestiniana.it/eventiperdonanza/teo-teocoli-in-tutto-teo/
TRANSP:OPAQUE
BEGIN:VALARM
TRIGGER;RELATED=END:-P2D
ACTION:DISPLAY
DESCRIPTION:Fine / Scadenza di Teo Teocoli in Tutto Teo
END:VALARM
END:VEVENT
END:VCALENDAR