BEGIN:VCALENDAR
VERSION:2.0
PRODID:-//Perdonanza Celestiniana L'Aquila //NONSGML Events //EN
CALSCALE:GREGORIAN
X-WR-CALNAME:Perdonanza Celestiniana L'Aquila
BEGIN:VEVENT
CREATED:20230809T064201
UID:1525
DTEND;VALUE=DATE-TIME:20230826T213000
DTSTART;VALUE=DATE-TIME:20230826T213000
DTSTAMP:20260423T214940
LOCATION:
DESCRIPTION:Teatro del Perdono
SUMMARY:Negramaro n20 &#8211\; Tour 2023
ORGANIZER:Perdonanza Celestiniana L'Aquila
URL;VALUE=URI:https://perdonanza-celestiniana.it/eventiperdonanza/negramaro-n20-tour-2023/
TRANSP:OPAQUE
BEGIN:VALARM
TRIGGER;RELATED=END:-P2D
ACTION:DISPLAY
DESCRIPTION:Fine / Scadenza di Negramaro n20 &#8211\; Tour 2023
END:VALARM
END:VEVENT
END:VCALENDAR