BEGIN:VCALENDAR
VERSION:2.0
PRODID:-//Perdonanza Celestiniana L'Aquila //NONSGML Events //EN
CALSCALE:GREGORIAN
X-WR-CALNAME:Perdonanza Celestiniana L'Aquila
BEGIN:VEVENT
CREATED:20230809T071033
UID:1528
DTEND;VALUE=DATE-TIME:20230829T213000
DTSTART;VALUE=DATE-TIME:20230829T213000
DTSTAMP:20260423T220114
LOCATION:
DESCRIPTION:Scalinata di San Bernardino
SUMMARY:Stanlio e Ollio\, amici fino all'ultima risata
ORGANIZER:Perdonanza Celestiniana L'Aquila
URL;VALUE=URI:https://perdonanza-celestiniana.it/eventiperdonanza/stanlio-e-ollio-amici-fino-allultima-risata/
TRANSP:OPAQUE
BEGIN:VALARM
TRIGGER;RELATED=END:-P2D
ACTION:DISPLAY
DESCRIPTION:Fine / Scadenza di Stanlio e Ollio\, amici fino all&#8217\;ultima risata
END:VALARM
END:VEVENT
END:VCALENDAR