BEGIN:VCALENDAR
VERSION:2.0
PRODID:-//Perdonanza Celestiniana L'Aquila //NONSGML Events //EN
CALSCALE:GREGORIAN
X-WR-CALNAME:Perdonanza Celestiniana L'Aquila
BEGIN:VEVENT
CREATED:20230826T074622
UID:1776
DTEND;VALUE=DATE-TIME:20230826T110000
DTSTART;VALUE=DATE-TIME:20230826T110000
DTSTAMP:20260423T234529
LOCATION:
DESCRIPTION:Sala rivera di Palazzo Fibbioni
SUMMARY:LA FORZA DEL PERDONO
ORGANIZER:Perdonanza Celestiniana L'Aquila
URL;VALUE=URI:https://perdonanza-celestiniana.it/eventiperdonanza/la-forza-del-perdono/
TRANSP:OPAQUE
BEGIN:VALARM
TRIGGER;RELATED=END:-P2D
ACTION:DISPLAY
DESCRIPTION:Fine / Scadenza di LA FORZA DEL PERDONO
END:VALARM
END:VEVENT
END:VCALENDAR