BEGIN:VCALENDAR
VERSION:2.0
PRODID:-//Perdonanza Celestiniana L'Aquila //NONSGML Events //EN
CALSCALE:GREGORIAN
X-WR-CALNAME:Perdonanza Celestiniana L'Aquila
BEGIN:VEVENT
CREATED:20230826T074855
UID:1778
DTEND;VALUE=DATE-TIME:20230827T190000
DTSTART;VALUE=DATE-TIME:20230827T190000
DTSTAMP:20260423T215158
LOCATION:
DESCRIPTION:L'Aquila - Centro storico
SUMMARY:L’AQUILA SUONA
ORGANIZER:Perdonanza Celestiniana L'Aquila
URL;VALUE=URI:https://perdonanza-celestiniana.it/eventiperdonanza/laquila-suona/
TRANSP:OPAQUE
BEGIN:VALARM
TRIGGER;RELATED=END:-P2D
ACTION:DISPLAY
DESCRIPTION:Fine / Scadenza di L’AQUILA SUONA
END:VALARM
END:VEVENT
END:VCALENDAR