BEGIN:VCALENDAR
VERSION:2.0
PRODID:-//Perdonanza Celestiniana L'Aquila //NONSGML Events //EN
CALSCALE:GREGORIAN
X-WR-CALNAME:Perdonanza Celestiniana L'Aquila
BEGIN:VEVENT
CREATED:20230826T080328
UID:1782
DTEND;VALUE=DATE-TIME:20230829T113000
DTSTART;VALUE=DATE-TIME:20230829T113000
DTSTAMP:20260423T220944
LOCATION:
DESCRIPTION:Auditorium del Parco
SUMMARY:PREMIO DEL PERDONO &#8211\; CERIMONIA DI CONFERIMENTO
ORGANIZER:Perdonanza Celestiniana L'Aquila
URL;VALUE=URI:https://perdonanza-celestiniana.it/eventiperdonanza/premio-del-perdono-cerimonia-di-conferimento/
TRANSP:OPAQUE
BEGIN:VALARM
TRIGGER;RELATED=END:-P2D
ACTION:DISPLAY
DESCRIPTION:Fine / Scadenza di PREMIO DEL PERDONO &#8211\; CERIMONIA DI CONFERIMENTO
END:VALARM
END:VEVENT
END:VCALENDAR