BEGIN:VCALENDAR
VERSION:2.0
PRODID:-//Perdonanza Celestiniana L'Aquila //NONSGML Events //EN
CALSCALE:GREGORIAN
X-WR-CALNAME:Perdonanza Celestiniana L'Aquila
BEGIN:VEVENT
CREATED:20230826T080540
UID:1785
DTEND;VALUE=DATE-TIME:20230829T183000
DTSTART;VALUE=DATE-TIME:20230829T183000
DTSTAMP:20260423T221259
LOCATION:
DESCRIPTION:Piazzale della Basilica di Collemaggio
SUMMARY:CHIUSURA DELLA PORTA SANTA E CORTEO DI RIENTRO DELLA BOLLA DEL PERDONO
ORGANIZER:Perdonanza Celestiniana L'Aquila
URL;VALUE=URI:https://perdonanza-celestiniana.it/eventiperdonanza/chiusura-della-porta-santa-e-corteo-di-rientro-della-bolla-del-perdono/
TRANSP:OPAQUE
BEGIN:VALARM
TRIGGER;RELATED=END:-P2D
ACTION:DISPLAY
DESCRIPTION:Fine / Scadenza di CHIUSURA DELLA PORTA SANTA E CORTEO DI RIENTRO DELLA BOLLA DEL PERDONO
END:VALARM
END:VEVENT
END:VCALENDAR